BEGIN:VCALENDAR
VERSION:2.0
PRODID:-//Tukios.com/
BEGIN:VEVENT
UID:09ec6efc-1d2a-462c-ab2d-1f841059abbd@www.fairhavenaugusta.com
DTSTAMP:20260421T211434Z
DTSTART:20260425T160000Z
DTEND:20260425T170000Z
SUMMARY:Funeral Service
DESCRIPTION:
URL:https://www.fairhavenaugusta.com/obituaries/savanna-herrington
LOCATION:Fairhaven Funeral Home 3507 Wrightsboro Road  Augusta GA 30909
GEO:33.4664458;-82.0888042
END:VEVENT
END:VCALENDAR