BEGIN:VCALENDAR
VERSION:2.0
PRODID:-//Tukios.com/
BEGIN:VEVENT
UID:0f55b4c1-e3b6-4ba9-937c-230454bbc891@www.fairhavenaugusta.com
DTSTAMP:20260421T211242Z
DTSTART:20260425T140000Z
DTEND:20260425T160000Z
SUMMARY:Visitation
DESCRIPTION:
URL:https://www.fairhavenaugusta.com/obituaries/savanna-herrington
LOCATION:Fairhaven Funeral Home 3507 Wrightsboro Road  Augusta GA 30909
GEO:33.4664458;-82.0888042
END:VEVENT
END:VCALENDAR